BEGIN:VCALENDAR
VERSION:2.0
PRODID:-//Musikverein Gaspoltshofen - ECPv4.2.7//NONSGML v1.0//EN
CALSCALE:GREGORIAN
METHOD:PUBLISH
X-WR-CALNAME:Musikverein Gaspoltshofen
X-ORIGINAL-URL:https://www.mv-gaspoltshofen.at/mv
X-WR-CALDESC:Events for Musikverein Gaspoltshofen
BEGIN:VEVENT
DTSTART;VALUE=DATE:20180617
DTEND;VALUE=DATE:20180617
DTSTAMP:20260421T101512
CREATED:20180426
LAST-MODIFIED:20180426
UID:6853-1529193600-1529279999@www.mv-gaspoltshofen.at
SUMMARY:Firmung
DESCRIPTION:Abmarsch Probelokal: 09:10 Uhr
URL:https://www.mv-gaspoltshofen.at/mv/?tribe_events=firmung
LOCATION:Gaspoltshofen\, 4673
CATEGORIES:Ausrückungen MV Gaspoltshofen
ATTACH;FMTTYPE=image/png:https://www.mv-gaspoltshofen.at/mv/wp-content/uploads/2018/04/kirchlich.png
END:VEVENT
END:VCALENDAR