BEGIN:VCALENDAR
VERSION:2.0
PRODID:-//Musikverein Gaspoltshofen - ECPv4.2.7//NONSGML v1.0//EN
CALSCALE:GREGORIAN
METHOD:PUBLISH
X-WR-CALNAME:Musikverein Gaspoltshofen
X-ORIGINAL-URL:https://www.mv-gaspoltshofen.at/mv
X-WR-CALDESC:Events for Musikverein Gaspoltshofen
BEGIN:VEVENT
DTSTART;TZID=Europe/Vienna:20151129T150000
DTEND;TZID=Europe/Vienna:20151129T183000
DTSTAMP:20260419T154419
CREATED:20151127T200924
LAST-MODIFIED:20151127T202357
UID:535-1448809200-1448821800@www.mv-gaspoltshofen.at
SUMMARY:Herbstkonzert 2015 - Tag 2
DESCRIPTION:Heuer wieder mit Unterstützung durch das Jugendblasorchester "FreshWinds" der LMS & der MV Gaspoltshofen\, Altenhof & Wolfsegg!\n\nNeben einem Mix aus Traditionellem ("Gruss aus Wien") und Modernem ("Sir Duke") gibt der Musikverein folgende Highlights zum Besten:\n\n"Westcoast Concerto" (Kees Vlak) mit unserer\nSolistin Andrea Malzer am Klavier\n\nund als finaler Höhepunkt des Herbstkonzertes:\n\ndie Uraufführung von "TERRA MYSTICA" (Thomas Doss) - Auftragswerk über den lebens - und liebenswerten Ort Gaspoltshofen\n\nDurch das Programm führt Christian Selinger\n\nVVK gibt es bei allen Musikern
URL:https://www.mv-gaspoltshofen.at/mv/?tribe_events=herbstkonzert-2015-tag-2
LOCATION:Hauptstraße 18\, Gaspoltshofen\, 4673
CATEGORIES:Eigene Veranstaltungen MV Gaspoltshofen
ATTACH;FMTTYPE=image/jpeg:https://www.mv-gaspoltshofen.at/mv/wp-content/uploads/2015/11/herbstkonzert_2015_v2.jpg
END:VEVENT
END:VCALENDAR