BEGIN:VCALENDAR
VERSION:2.0
PRODID:-//Musikverein Gaspoltshofen - ECPv4.2.7//NONSGML v1.0//EN
CALSCALE:GREGORIAN
METHOD:PUBLISH
X-WR-CALNAME:Musikverein Gaspoltshofen
X-ORIGINAL-URL:https://www.mv-gaspoltshofen.at/mv
X-WR-CALDESC:Events for Musikverein Gaspoltshofen
BEGIN:VEVENT
DTSTART;VALUE=DATE:20180501
DTEND;VALUE=DATE:20180501
DTSTAMP:20260419T151824
CREATED:20180426
LAST-MODIFIED:20180426
UID:6821-1525132800-1525219199@www.mv-gaspoltshofen.at
SUMMARY:Maianblasen
DESCRIPTION:Am 1.Mai rückt der Musikverein wieder zum traditionellen Maianblasen aus.\n\n\n\nTP: 06:30\, Probelokal\n\n\n
URL:https://www.mv-gaspoltshofen.at/mv/?tribe_events=maianblasen
LOCATION:Gaspoltshofen\, 4673\, Österreich
CATEGORIES:Ausrückungen MV Gaspoltshofen
ATTACH;FMTTYPE=image/jpeg:https://www.mv-gaspoltshofen.at/mv/wp-content/uploads/2018/04/slide-1.jpg
END:VEVENT
END:VCALENDAR